BEGIN:VCALENDAR
VERSION:2.0
PRODID:-//CGT BANQUE ASSURANCE FINANCE IMMOBILIER - ECPv6.15.20//NONSGML v1.0//EN
CALSCALE:GREGORIAN
METHOD:PUBLISH
X-ORIGINAL-URL:https://www.ugict-aim.com
X-WR-CALDESC:Évènements pour CGT BANQUE ASSURANCE FINANCE IMMOBILIER
REFRESH-INTERVAL;VALUE=DURATION:PT1H
X-Robots-Tag:noindex
X-PUBLISHED-TTL:PT1H
BEGIN:VTIMEZONE
TZID:Europe/Paris
BEGIN:DAYLIGHT
TZOFFSETFROM:+0100
TZOFFSETTO:+0200
TZNAME:CEST
DTSTART:20190331T010000
END:DAYLIGHT
BEGIN:STANDARD
TZOFFSETFROM:+0200
TZOFFSETTO:+0100
TZNAME:CET
DTSTART:20191027T010000
END:STANDARD
BEGIN:DAYLIGHT
TZOFFSETFROM:+0100
TZOFFSETTO:+0200
TZNAME:CEST
DTSTART:20200329T010000
END:DAYLIGHT
BEGIN:STANDARD
TZOFFSETFROM:+0200
TZOFFSETTO:+0100
TZNAME:CET
DTSTART:20201025T010000
END:STANDARD
BEGIN:DAYLIGHT
TZOFFSETFROM:+0100
TZOFFSETTO:+0200
TZNAME:CEST
DTSTART:20210328T010000
END:DAYLIGHT
BEGIN:STANDARD
TZOFFSETFROM:+0200
TZOFFSETTO:+0100
TZNAME:CET
DTSTART:20211031T010000
END:STANDARD
END:VTIMEZONE
BEGIN:VEVENT
DTSTART;TZID=Europe/Paris:20200116T100000
DTEND;TZID=Europe/Paris:20200116T123000
DTSTAMP:20260420T134602
CREATED:20200115T103808Z
LAST-MODIFIED:20201201T092937Z
UID:5283-1579168800-1579177800@www.ugict-aim.com
SUMMARY:CSSCT
DESCRIPTION:Ordre du jour du CSSCT du 16 janvier 2020 :\n[restrict] \n[/restrict]
URL:https://www.ugict-aim.com/event/cssct/
CATEGORIES:CSSCT
END:VEVENT
END:VCALENDAR